BEGIN:VCALENDAR
VERSION:2.0
PRODID:-//Freebird Valley - ECPv6.15.20//NONSGML v1.0//EN
CALSCALE:GREGORIAN
METHOD:PUBLISH
X-WR-CALNAME:Freebird Valley
X-ORIGINAL-URL:https://freebirdvalleycollective.com
X-WR-CALDESC:Events for Freebird Valley
REFRESH-INTERVAL;VALUE=DURATION:PT1H
X-Robots-Tag:noindex
X-PUBLISHED-TTL:PT1H
BEGIN:VTIMEZONE
TZID:UTC
BEGIN:STANDARD
TZOFFSETFROM:+0000
TZOFFSETTO:+0000
TZNAME:UTC
DTSTART:20230101T000000
END:STANDARD
END:VTIMEZONE
BEGIN:VEVENT
DTSTART;TZID=UTC:20240719T160000
DTEND;TZID=UTC:20240721T120000
DTSTAMP:20260423T183150
CREATED:20240502T192326Z
LAST-MODIFIED:20240502T192653Z
UID:2282-1721404800-1721563200@freebirdvalleycollective.com
SUMMARY:Spirit of the Mountain Retreat
DESCRIPTION:Join for a magical weekend of community\, sound healing\, nature\, and reflection in the Mountains of Jefferson\, CO. Spirit of the Mountain Retreat is a weekend of connection. Connection with ourselves\, the earth\, and with our community\, both at the retreat and once returning home. There will be Morning Sound Baths to begin your day\, with a chance to go explore the land and take in the natural beauty of the surroundings. There will be group discussions\, guided meditations with Sound Healing\, and learn how to use herbs to make your own custom cleansing spray. On the last night there will be an evening of Cacao and a ceremonial fire\, where you will learn how to use the fire for prayer\, intentions\, and release. \n  \nAt times\, meals will be used for group discussions. A time to share\, express and to discuss a variety of concepts to help bring interconnectedness back into our lives and to explore how to bring more peace and unity into our every day. We will be serving vegetarian meals and snacks throughout the weekend\, with vegan and gluten free options available. Find out more and sign up at www.soulgrowthnetwork.com \n($100 off for Early Bird until May 31st! Only 2 Spots Left!)
URL:https://freebirdvalleycollective.com/retreats/spirit-of-the-mountain-retreat/
ATTACH;FMTTYPE=image/jpeg:https://freebirdvalleycollective.com/wp-content/uploads/2024/05/IMG_8029.jpeg
END:VEVENT
BEGIN:VEVENT
DTSTART;TZID=UTC:20240620T150000
DTEND;TZID=UTC:20240624T120000
DTSTAMP:20260423T183150
CREATED:20240410T180045Z
LAST-MODIFIED:20240410T180045Z
UID:2268-1718895600-1719230400@freebirdvalleycollective.com
SUMMARY:The Sacred Heart Retreat
DESCRIPTION:The Sacred Heart Retreat will be a 4-day Immersion in the mountains of Colorado where we will be taking a deep dive into our HEARTS to access our Sacred Oneness with our Soul and the Source of All That Is.  \nThis heart-opening retreat will be centered around teachings of the Divine Feminine side of Christ Consciousness aka The Magdalene Codes as well as the utilization of Heart-Opening Sacred Ceremony to help you heal\, transmute\, activate\, and open your heart more fully to the energies of Unity Consciousness and Unconditional Love.  \nIn this 4-day retreat we’ll be opening our ceremonial space with a traditional tea ceremony\, setting our intentions for our time together and having our first dinner together. Over the following days\, we’ll be sitting in 2 separate ceremonies with integration time in between both. During our days together we’ll also be immersing in guided yoga\, breathwork\, and meditations to help you fully align and embody what you are learning and accessing through the teachings and ceremonies.  \nAll who participate and join us in this Sacred Heart Journey will be held in a container of safety and love so that you may heal\, transmute your past\, access more of your Truth\, and ascend into new realms more in alignment with your Soul and Higher Self. As the planet aligns more with the New Earth frequencies\, this is where we’re headed! Why not gift yourself this Divine Immersion into aligning with the New Earth frequencies and Unity Consciousness quicker through this retreat?! \nThis retreat will be guided by Priscilla Bernstein and Kris Cox. For more info and to register\, please click here to access the retreat’s homepage.
URL:https://freebirdvalleycollective.com/retreats/the-sacred-heart-retreat/
ATTACH;FMTTYPE=image/jpeg:https://freebirdvalleycollective.com/wp-content/uploads/2024/04/IMG_6466.jpeg
END:VEVENT
BEGIN:VEVENT
DTSTART;TZID=UTC:20240614T150000
DTEND;TZID=UTC:20240616T120000
DTSTAMP:20260423T183150
CREATED:20240508T153501Z
LAST-MODIFIED:20240508T153501Z
UID:2296-1718377200-1718539200@freebirdvalleycollective.com
SUMMARY:Beyond Permission: a Women’s Retreat
DESCRIPTION:Are you tired of asking for permission to be your authentic self? Are you curious about experiencing sacred ceremony in a safe and supportive environment? Are you on a journey of self-discovery and seek a community of like-minded women? Join us as we gather a group of women for a nourishing and sacred container of ceremony\, yoga\, connection\, art\, herbal medicine and healing foods\, all to allow our soul’s voices and authentic selves to emerge and expand. \nEarly Bird pricing until May 15th! \nCurious to learn more about this retreat? Email cynthia@rootedtruthcoaching.com today to get more information.
URL:https://freebirdvalleycollective.com/retreats/beyond-permission-a-womens-retreat/
ATTACH;FMTTYPE=image/png:https://freebirdvalleycollective.com/wp-content/uploads/2024/05/beyond-permission-flyer-RETREAT-PUBLIC-freebird.png
END:VEVENT
BEGIN:VEVENT
DTSTART;TZID=UTC:20240516T160000
DTEND;TZID=UTC:20240519T140000
DTSTAMP:20260423T183150
CREATED:20240301T213218Z
LAST-MODIFIED:20240424T210310Z
UID:2244-1715875200-1716127200@freebirdvalleycollective.com
SUMMARY:Yogic Warrior Immersion Weekend
DESCRIPTION:Yoga warriors are those with the courage to look inward\, to physically and emotionally challenge themselves\, to seek intention and growth in their practices and their lives. We designed an immersive weekend dedicated to evolving your yoga\, both on and off the mat.  \nImmerse yourself in the journey of cultivating the balance\, strength\, and surrender necessary to live a conscious and meaningful life through the portal of handstand.  \nThe weekend includes yoga instruction with peak posture intelligent sequencing by advanced practitioner and teacher\, Kris Cox.  Daily lectures focused on ‘off-the-mat’ yoga philosophy and integration\, by Kacey Kingry – a successful life coach\, alcohol-free supportive counselor and yoga teacher.  Jeremiah Davidson\, a clinical psychotherapist and longtime yoga student and teacher will guide on scientific based down-regulating optimal breathing for the yoga classroom and intentional cold exposure (ice baths!). \nThis immersion is designed as an alternative to the traditional relaxation focused retreats.   We expect this weekend to be physically powerful\, finding edges\, moving beyond them\, AND we know that sometimes our edges are learning to soften vs engage.  This weekend is perfect for intermediate and advanced yogis looking to expand their practice\, AND there is always space for beginners who would like to understand the value of experienced instruction\, guidance\, and personal modification.  \n You do not have to be an arm-balancer to attend this retreat. There are so many steps between wherever you are right now and handstand. Imagine all the beautiful and important things you will learn about yourself along the way!!! \nThe facilitators bring countless years of combined knowledge and a wealth of life experience to the weekend. Our goal is that you feel held\, encouraged\, and will prosper in the space that is created when experience is explored and shared.  If you have any questions regarding the weekend\, feel free to email jeremiahddavidson@gmail.com – include in your subject line\, Yogic Warrior Weekend.      \n\nAccommodations:  Shared rooms in the beautiful Freebird Valley retreat space\, an 1.5 drive from Denver into the heart of Colorado Rocky Mountains.  \nCost: $1150 per person (Scholarships available\, email for inquiry) \nEats: All meals provided are high-vibrational\, plant-based and gluten free\, prepared by our local chef\, Tay Pellerin. \nAgenda:  8 yoga classes/workshops from different lineages\, 2 lectures\, breathwork with intentional cold exposure\n Extras:  360 views of the wondrous South Park Valley and mountain peaks.  5 acres of available nature hikes.   Cacao and matcha offerings.  Firepit chats (weather permitting).\n\nPROMO: BRING A FRIEND AND BOTH RECEIVE 10% OFF THE WEEKEND! \nTo attend this retreat\, RSVP email here. We will follow up upon receiving your email!
URL:https://freebirdvalleycollective.com/retreats/yogic-warrior-immersion-weekend/
ATTACH;FMTTYPE=image/png:https://freebirdvalleycollective.com/wp-content/uploads/2024/03/1709324930.329438-8D2B14EF-A9C0-440B-B172-64728CEF2AE8.png
END:VEVENT
BEGIN:VEVENT
DTSTART;TZID=UTC:20240510T120000
DTEND;TZID=UTC:20240512T120000
DTSTAMP:20260423T183150
CREATED:20240229T235944Z
LAST-MODIFIED:20240301T000108Z
UID:2225-1715342400-1715515200@freebirdvalleycollective.com
SUMMARY:Traditional Ceremony with Taita Cesar
DESCRIPTION:Dear Tribe\, \nMay 10th – 12th we welcome Taita Cesar and his team to our sacred lands here in Colorado. \nTaita Cesar belonging to the Coreguajge and Suberucus tribe in Colombia and will be sharing his ancient arts of holistic\, natural medicine\, one on one integrations and individual energetic cleanses throughout the weekend. \nFor more details and how to sign up please reach out directly. \nMany blessings!
URL:https://freebirdvalleycollective.com/retreats/traditional-ceremony-with-taita-cesar/
ATTACH;FMTTYPE=image/jpeg:https://freebirdvalleycollective.com/wp-content/uploads/2024/02/IMG_7208.jpeg
END:VEVENT
BEGIN:VEVENT
DTSTART;TZID=UTC:20240502T120000
DTEND;TZID=UTC:20240505T120000
DTSTAMP:20260423T183150
CREATED:20240314T220906Z
LAST-MODIFIED:20240410T172917Z
UID:2264-1714651200-1714910400@freebirdvalleycollective.com
SUMMARY:WOWfactor Weekend
DESCRIPTION:Are you a trailblazing female\, looking for a space to connect and journey toward your most authentic Self?\n  \nTravel to Freebird Valley in Jefferson Colorado May 2nd-5th\, 2024 for an EXCLUSIVE women’s health optimization weekend in the wild! \nEmbark on a cutting-edge wellness journey tailored to your unique needs. Prior to the event\, undergo comprehensive lab work\, guided by expert coaches Lauren Sambataro and Kristin Weitzel\, to illuminate your path to optimal health. Our expert coaches will guide you through your results\, ensuring your path to optimal wellness is clear and effective. \nImmerse yourself in a rich tapestry of workshops\, enlightening talks\, invigorating ice baths\, dynamic fitness classes\, and thoughtfully curated meals designed to nourish both body and soul. Engage in inspiring conversations with like-minded women\, forging connections that will support you on your ongoing health journey. \n–-> For more detailed info on the weekend and to register\, click here to sign up directly with your hosts.
URL:https://freebirdvalleycollective.com/retreats/wowfactor-weekend/
ATTACH;FMTTYPE=image/jpeg:https://freebirdvalleycollective.com/wp-content/uploads/2024/03/MAY-2-5-FREEBIRD-VALLEY-COLORADO.jpg
END:VEVENT
BEGIN:VEVENT
DTSTART;TZID=UTC:20240424T160000
DTEND;TZID=UTC:20240425T110000
DTSTAMP:20260423T183150
CREATED:20240301T210211Z
LAST-MODIFIED:20240301T233832Z
UID:2240-1713974400-1714042800@freebirdvalleycollective.com
SUMMARY:Sacred Circle Ceremony of Reconnection
DESCRIPTION:Join Kris Cox in a one day ceremony of sacred song and gathering to connect to one another\, the land and her sacred medicine. \nHeld in the Rocky Mountains where free birds fly\, and aspen leaves dance\, this circle’s purpose is reconnection to the magic that threads through all. Connection is the intention\, vehicle and destination.  \nWe will gather and connect as a community united in our interest in growing past what we know. We gather to share in the wonder\, the curiosity of what lies past the perceived barriers\, past fear. What is possible in connection and expansion? In love and compassion for ourselves and each other\, we enter this journey together to begin the exploration.   \nFrom there we will connect with the Earth\, her nurturing magic\, and the love that joins us all. We will connect with song\, music and sacred sound. We will connect in community\, discussion and the shared experience of expanded consciousness.  \nWith great honor\, Kris provides the vessel\, the drum space for each of us to meet ourselves\, and love ourselves to invite healing. Kris is a student of yoga\, music\, meditation\, plant medicines and the magic of mycelium. Expansion and growth are ever present purposes. Love is the North Star. These are the fundamentals of Kris’ facilitation. You are invited to create together a community of intention\, connection and healing. \nOne day ceremony beginning at 4pm includes: ceremony\, dinner\, overnight stay\, breakfast\, and integration. Depart at 11am. \nCost: $300 \nTo attend this retreat\, RSVP email here. 
URL:https://freebirdvalleycollective.com/retreats/sacred-singing-circle-of-reconnection-3/
ATTACH;FMTTYPE=image/jpeg:https://freebirdvalleycollective.com/wp-content/uploads/2024/02/IMG_7155.jpeg
END:VEVENT
BEGIN:VEVENT
DTSTART;TZID=UTC:20240420T140000
DTEND;TZID=UTC:20240421T140000
DTSTAMP:20260423T183150
CREATED:20240313T020701Z
LAST-MODIFIED:20240313T020900Z
UID:2258-1713621600-1713708000@freebirdvalleycollective.com
SUMMARY:Crystals for Self Love: Tending your own garden this Spring
DESCRIPTION:If you imagine yourself as a lovely garden\, how’s it looking? Is it healthy and ready for the spring ahead\, or is it needing some love and nurturing? A garden isn’t in place just to survive\, a garden is meant to thrive. And so are you!  \nIn this retreat we will spend two days and one night in the loving vibrations of Rose Quartz\, Green Aventurine and Flower Agate\, focusing on nurturing ourselves during our stay and how to carry that into your life this spring.  \nWe will focus on what your garden (aka YOU) needs to thrive\, what needs to be prioritized and what needs to be weeded out. Supported by our learnings with the crystals\, we will move through meditations\, journaling and deep honest reflections on our basic needs\, desires and perceived obligations. We will use all we’ve learned to create personal intentions and mantras (seeds to plant!) before returning back home to implement intentional daily self care and self love.  \nTo nurture us throughout the retreat will be our crystals. We will learn about the beautiful frequencies of crystals and how they can help support your own frequency\, your growth and intentionality. Included in the retreat will be your own set of crystals for daily rituals and support.  \nWoven throughout the stay will also be a nurturing yoga practice with Jessi Trujillo and traditional Cha Dao tea ceremony with Chalise Kanafani. Providing us with loving nourishment\, Mary Fyfe will create plant based meals and snacks that support and balance the heart chakra during our stay.   \nOur retreat will be held on the magical 5 acres of beautiful Rocky Mountain wilderness and retreat space\, Freebird Valley. Cozy accommodations include shared rooms\, two living spaces for relaxing and connecting and a separate Gathering Space for our meditations\, yoga\, tea and study for the weekend. Free time to hike\, explore and soak in the mountain beauty will be woven throughout our time. (Fun fact: Freebird is surrounded by a crystal grid of 44 crystals embedded into the earth\, holding safe\, loving and healing space for all who visit. Read more about that here.) \n  \nCost for the weekend retreat: $300 \nWhat’s included: \n~ Set of 3 crystals to use and support your work \n~ Guided crystal meditations and self study \n~ Heart centered yoga class \n~ Traditional tea ceremony \n~ Three meals and snacks of fresh\, nourishing heart chakra balancing foods \n~ One night stay\, cozy accommodations and shared rooms at Freebird Valley \n~ Free time and space to be in the secluded wilderness of this mountain valley \n**Crystals from Amarsi and mala bracelets from Grace Malas will also be on display and available for purchase** \n  \n-> To join us for this retreat\, please RSVP to Christina here! <- \n–> Sign up by April 1st and receive FREE rose quartz or aventurine bracelet! <– \nMore about your host: Christina Cox is a Certified Crystal Healer and Crystal Reader\, specializing in grid work\, guiding crystal mediation\, and teaching intentional practices with crystals. She is also creator of Grace Malas and co-creator of Freebird Valley. To learn more\, click here.
URL:https://freebirdvalleycollective.com/retreats/crystals-for-self-love-tending-your-own-garden-this-spring/
ATTACH;FMTTYPE=image/jpeg:https://freebirdvalleycollective.com/wp-content/uploads/2024/03/IMG_7439.jpeg
END:VEVENT
BEGIN:VEVENT
DTSTART;TZID=UTC:20240419T160000
DTEND;TZID=UTC:20240420T110000
DTSTAMP:20260423T183150
CREATED:20240301T205600Z
LAST-MODIFIED:20240301T234411Z
UID:2237-1713542400-1713610800@freebirdvalleycollective.com
SUMMARY:Sacred Circle Ceremony of Reconnection
DESCRIPTION:Join Kris Cox in a one day ceremony of sacred song and gathering to connect to one another\, the land and her sacred medicine. \nHeld in the Rocky Mountains where free birds fly\, and aspen leaves dance\, this circle’s purpose is reconnection to the magic that threads through all. Connection is the intention\, vehicle and destination.  \nWe will gather and connect as a community united in our interest in growing past what we know. We gather to share in the wonder\, the curiosity of what lies past the perceived barriers\, past fear. What is possible in connection and expansion? In love and compassion for ourselves and each other\, we enter this journey together to begin the exploration.   \nFrom there we will connect with the Earth\, her nurturing magic\, and the love that joins us all. We will connect with song\, music and sacred sound. We will connect in community\, discussion and the shared experience of expanded consciousness.  \nWith great honor\, Kris provides the vessel\, the drum space for each of us to meet ourselves\, and love ourselves to invite healing. Kris is a student of yoga\, music\, meditation\, plant medicines and the magic of mycelium. Expansion and growth are ever present purposes. Love is the North Star. These are the fundamentals of Kris’ facilitation. You are invited to create together a community of intention\, connection and healing. \nOne day ceremony beginning at 4pm includes: ceremony\, dinner\, overnight stay\, breakfast\, and integration. Depart at 11am. \nCost: $300 \nTo attend this retreat\, RSVP email here. 
URL:https://freebirdvalleycollective.com/retreats/sacred-singing-circle-of-reconnection-2/
ATTACH;FMTTYPE=image/jpeg:https://freebirdvalleycollective.com/wp-content/uploads/2024/03/IMG_7082.jpeg
END:VEVENT
BEGIN:VEVENT
DTSTART;TZID=UTC:20240410T160000
DTEND;TZID=UTC:20240411T110000
DTSTAMP:20260423T183150
CREATED:20240301T205347Z
LAST-MODIFIED:20240301T234342Z
UID:2234-1712764800-1712833200@freebirdvalleycollective.com
SUMMARY:Sacred Circle Ceremony of Reconnection
DESCRIPTION:Join Kris Cox in a one day ceremony of sacred song and gathering to connect to one another\, the land and her sacred medicine. \nHeld in the Rocky Mountains where free birds fly\, and aspen leaves dance\, this circle’s purpose is reconnection to the magic that threads through all. Connection is the intention\, vehicle and destination.  \nWe will gather and connect as a community united in our interest in growing past what we know. We gather to share in the wonder\, the curiosity of what lies past the perceived barriers\, past fear. What is possible in connection and expansion? In love and compassion for ourselves and each other\, we enter this journey together to begin the exploration.   \nFrom there we will connect with the Earth\, her nurturing magic\, and the love that joins us all. We will connect with song\, music and sacred sound. We will connect in community\, discussion and the shared experience of expanded consciousness.  \nWith great honor\, Kris provides the vessel\, the drum space for each of us to meet ourselves\, and love ourselves to invite healing. Kris is a student of yoga\, music\, meditation\, plant medicines and the magic of mycelium. Expansion and growth are ever present purposes. Love is the North Star. These are the fundamentals of Kris’ facilitation. You are invited to create together a community of intention\, connection and healing. \nOne day ceremony beginning at 4pm includes: ceremony\, dinner\, overnight stay\, breakfast\, and integration. Depart at 11am. \nCost: $300 \nTo attend this retreat\, RSVP email here.  \n 
URL:https://freebirdvalleycollective.com/retreats/sacred-singing-circle-of-reconnection/
ATTACH;FMTTYPE=image/jpeg:https://freebirdvalleycollective.com/wp-content/uploads/2024/03/IMG_7058.jpeg
END:VEVENT
BEGIN:VEVENT
DTSTART;TZID=UTC:20240320T160000
DTEND;TZID=UTC:20240321T110000
DTSTAMP:20260423T183150
CREATED:20240301T205029Z
LAST-MODIFIED:20240301T234226Z
UID:2230-1710950400-1711018800@freebirdvalleycollective.com
SUMMARY:Sacred Circle Ceremony of Reconnection
DESCRIPTION:Join Kris Cox in a one day ceremony of sacred song and gathering to connect to one another\, the land and her sacred medicine. \nHeld in the Rocky Mountains where free birds fly\, and aspen leaves dance\, this circle’s purpose is reconnection to the magic that threads through all. Connection is the intention\, vehicle and destination.  \nWe will gather and connect as a community united in our interest in growing past what we know. We gather to share in the wonder\, the curiosity of what lies past the perceived barriers\, past fear. What is possible in connection and expansion? In love and compassion for ourselves and each other\, we enter this journey together to begin the exploration.   \nFrom there we will connect with the Earth\, her nurturing magic\, and the love that joins us all. We will connect with song\, music and sacred sound. We will connect in community\, discussion and the shared experience of expanded consciousness.  \nWith great honor\, Kris provides the vessel\, the drum space for each of us to meet ourselves\, and love ourselves to invite healing. Kris is a student of yoga\, music\, meditation\, plant medicines and the magic of mycelium. Expansion and growth are ever present purposes. Love is the North Star. These are the fundamentals of Kris’ facilitation. You are invited to create together a community of intention\, connection and healing. \nOne day ceremony beginning at 4pm includes: ceremony\, dinner\, overnight stay\, breakfast\, and integration. Depart at 11am. \nCost: $300 \nTo attend this retreat\, RSVP email here.  \n 
URL:https://freebirdvalleycollective.com/retreats/sacred-circle-ceremony-of-reconnection-2/
ATTACH;FMTTYPE=image/jpeg:https://freebirdvalleycollective.com/wp-content/uploads/2024/03/IMG_7154.jpeg
END:VEVENT
BEGIN:VEVENT
DTSTART;TZID=UTC:20240314T150000
DTEND;TZID=UTC:20240317T120000
DTSTAMP:20260423T183150
CREATED:20240229T235006Z
LAST-MODIFIED:20240229T235006Z
UID:2222-1710428400-1710676800@freebirdvalleycollective.com
SUMMARY:Mountain Goddess Retreat
DESCRIPTION:Immerse yourself in a transformative journey of self-discovery at the Mountain Goddess Retreat. Experience ancient wisdom combined with modern practices to empower and rejuvenate your mind\, body\, and spirit. Learn about ancient Yoga Goddesses to help ignite your feminine energy. Prepare to embark on a transformative adventure that will awaken the goddess you know is in you. \nThe retreat will be led by Cat Wetenkamp and Callie Fuller: experienced teachers and healers who have partnered together since 2018 in their yogic journey. They are passionate about sharing their wisdom and creating a sacred space for your personal growth. Our diverse programming offers a rich tapestry of practices designed to nourish your soul and expand your consciousness. \nClick here to visit this retreat’s website and reach out to Cat and Callie directly to register\, and more info/questions.
URL:https://freebirdvalleycollective.com/retreats/mountain-goddess-retreat/
ATTACH;FMTTYPE=image/png:https://freebirdvalleycollective.com/wp-content/uploads/2024/02/Untitled-design-42.png
END:VEVENT
BEGIN:VEVENT
DTSTART;TZID=UTC:20240308T160000
DTEND;TZID=UTC:20240309T110000
DTSTAMP:20260423T183150
CREATED:20240228T233905Z
LAST-MODIFIED:20240301T233958Z
UID:2203-1709913600-1709982000@freebirdvalleycollective.com
SUMMARY:Sacred Circle Ceremony of Reconnection
DESCRIPTION:Join Kris Cox in a one day ceremony of sacred song and gathering to connect to one another\, the land and her sacred medicine. \nHeld in the Rocky Mountains where free birds fly\, and aspen leaves dance\, this circle’s purpose is reconnection to the magic that threads through all. Connection is the intention\, vehicle and destination.  \nWe will gather and connect as a community united in our interest in growing past what we know. We gather to share in the wonder\, the curiosity of what lies past the perceived barriers\, past fear. What is possible in connection and expansion? In love and compassion for ourselves and each other\, we enter this journey together to begin the exploration.   \nFrom there we will connect with the Earth\, her nurturing magic\, and the love that joins us all. We will connect with song\, music and sacred sound. We will connect in community\, discussion and the shared experience of expanded consciousness.  \nWith great honor\, Kris provides the vessel\, the drum space for each of us to meet ourselves\, and love ourselves to invite healing. Kris is a student of yoga\, music\, meditation\, plant medicines and the magic of mycelium. Expansion and growth are ever present purposes. Love is the North Star. These are the fundamentals of Kris’ facilitation. You are invited to create together a community of intention\, connection and healing. \nOne day ceremony beginning at 4pm includes: ceremony\, dinner\, overnight stay\, breakfast\, and integration. Depart at 11am. \nCost: $300 \nTo attend this retreat\, RSVP email here.  \n 
URL:https://freebirdvalleycollective.com/retreats/sacred-circle-ceremony-of-reconnection/
ATTACH;FMTTYPE=image/jpeg:https://freebirdvalleycollective.com/wp-content/uploads/2024/02/IMG_7155.jpeg
END:VEVENT
END:VCALENDAR